BEGIN:VCALENDAR
VERSION:2.0
PRODID:-//Connection Medicine Coaching - ECPv6.15.20//NONSGML v1.0//EN
CALSCALE:GREGORIAN
METHOD:PUBLISH
X-ORIGINAL-URL:https://connectionmedicine.com
X-WR-CALDESC:Events for Connection Medicine Coaching
REFRESH-INTERVAL;VALUE=DURATION:PT1H
X-Robots-Tag:noindex
X-PUBLISHED-TTL:PT1H
BEGIN:VTIMEZONE
TZID:America/Los_Angeles
BEGIN:DAYLIGHT
TZOFFSETFROM:-0800
TZOFFSETTO:-0700
TZNAME:PDT
DTSTART:20250309T100000
END:DAYLIGHT
BEGIN:STANDARD
TZOFFSETFROM:-0700
TZOFFSETTO:-0800
TZNAME:PST
DTSTART:20251102T090000
END:STANDARD
BEGIN:DAYLIGHT
TZOFFSETFROM:-0800
TZOFFSETTO:-0700
TZNAME:PDT
DTSTART:20260308T100000
END:DAYLIGHT
BEGIN:STANDARD
TZOFFSETFROM:-0700
TZOFFSETTO:-0800
TZNAME:PST
DTSTART:20261101T090000
END:STANDARD
BEGIN:DAYLIGHT
TZOFFSETFROM:-0800
TZOFFSETTO:-0700
TZNAME:PDT
DTSTART:20270314T100000
END:DAYLIGHT
BEGIN:STANDARD
TZOFFSETFROM:-0700
TZOFFSETTO:-0800
TZNAME:PST
DTSTART:20271107T090000
END:STANDARD
END:VTIMEZONE
BEGIN:VEVENT
DTSTART;TZID=America/Los_Angeles:20260221T081500
DTEND;TZID=America/Los_Angeles:20260221T121500
DTSTAMP:20260420T013652
CREATED:20260212T172520Z
LAST-MODIFIED:20260220T192410Z
UID:10000015-1771661700-1771676100@connectionmedicine.com
SUMMARY:Session 4: Sacred Geometry
DESCRIPTION:Titrate boundaries and heighten energy awareness to find your fengshui with animals. This balanced deeply aware state is where highest quality action arises from. It can be used as a treat. “Find your Fengshui” Exercise: Practice skills to find your best position within the herd to actively participate in how horses rejuvenate standing up. Share experience. Limit 20 participants. \n\n\n\n\n\n\n\n\n\n\n\nNo horse experience required. \n\n\n\nBring: Closed toe shoes\, water\, snacks\, lawn chair and a smile!
URL:https://connectionmedicine.com/event/session-4-sacred-geometry/
LOCATION:Hoku Lio Farms\, 41-363 Saddle City Road\, Waimānalo\, Oahu\, HI\, 96795\, United States
ATTACH;FMTTYPE=image/jpeg:https://connectionmedicine.com/wp-content/uploads/2026/02/fengshui.jpg
END:VEVENT
END:VCALENDAR